BEGIN:VCALENDAR
PRODID:-//github.com/rianjs/ical.net//NONSGML ical.net 4.0//EN
VERSION:2.0
BEGIN:VEVENT
DESCRIPTION:We look forward to hundreds of our members from across the cou
 ntry coming together for this four-day conference experience\, taking pla
 ce November 15-18\, 2018 in Houston\, TX.
DTEND:20181118T190000Z
DTSTAMP:20211112T013130Z
DTSTART:20181115T150000Z
LOCATION:5060 W Alabama St
SEQUENCE:1
SUMMARY:8th Annual oSTEM Conference
UID:80eedf05-4898-4c16-a49b-7a14ab9b3aef
X-ALT-DESC:We look forward to hundreds of our members from across the coun
 try coming together for this four-day conference experience\, taking plac
 e November 15-18\, 2018 in Houston\, TX.
END:VEVENT
END:VCALENDAR
