BEGIN:VCALENDAR
PRODID:-//github.com/rianjs/ical.net//NONSGML ical.net 4.0//EN
VERSION:2.0
BEGIN:VEVENT
DESCRIPTION:We look forward to hundreds of our members from across the wor
 ld coming together for this four-day conference experience\, taking place
  November 14-17\, 2019 at the Renaissance Center in Detroit\, MI.
DTEND:20191117T170000Z
DTSTAMP:20210910T171916Z
DTSTART:20191114T140000Z
LOCATION:400 Renaissance Dr W
SEQUENCE:1
SUMMARY:9th Annual oSTEM Conference
UID:41b4f173-7760-49e9-a731-71ba0ec7261e
X-ALT-DESC:We look forward to hundreds of our members from across the worl
 d coming together for this four-day conference experience\, taking place 
 November 14-17\, 2019 at the Renaissance Center in Detroit\, MI.
END:VEVENT
END:VCALENDAR
